BEGIN:VCALENDAR
VERSION:2.0
PRODID:-//Netzwerken in Leipzig - ECPv6.15.20//NONSGML v1.0//EN
CALSCALE:GREGORIAN
METHOD:PUBLISH
X-ORIGINAL-URL:https://netzwerken-leipzig.de
X-WR-CALDESC:Veranstaltungen für Netzwerken in Leipzig
REFRESH-INTERVAL;VALUE=DURATION:PT1H
X-Robots-Tag:noindex
X-PUBLISHED-TTL:PT1H
BEGIN:VTIMEZONE
TZID:Europe/Berlin
BEGIN:DAYLIGHT
TZOFFSETFROM:+0100
TZOFFSETTO:+0200
TZNAME:CEST
DTSTART:20230326T010000
END:DAYLIGHT
BEGIN:STANDARD
TZOFFSETFROM:+0200
TZOFFSETTO:+0100
TZNAME:CET
DTSTART:20231029T010000
END:STANDARD
BEGIN:DAYLIGHT
TZOFFSETFROM:+0100
TZOFFSETTO:+0200
TZNAME:CEST
DTSTART:20240331T010000
END:DAYLIGHT
BEGIN:STANDARD
TZOFFSETFROM:+0200
TZOFFSETTO:+0100
TZNAME:CET
DTSTART:20241027T010000
END:STANDARD
BEGIN:DAYLIGHT
TZOFFSETFROM:+0100
TZOFFSETTO:+0200
TZNAME:CEST
DTSTART:20250330T010000
END:DAYLIGHT
BEGIN:STANDARD
TZOFFSETFROM:+0200
TZOFFSETTO:+0100
TZNAME:CET
DTSTART:20251026T010000
END:STANDARD
END:VTIMEZONE
BEGIN:VEVENT
DTSTART;TZID=Europe/Berlin:20240912T190000
DTEND;TZID=Europe/Berlin:20240912T233000
DTSTAMP:20260421T105401
CREATED:20240822T100913Z
LAST-MODIFIED:20240903T081153Z
UID:13313-1726167600-1726183800@netzwerken-leipzig.de
SUMMARY:After Work Party im Nachtcafe
DESCRIPTION:Feierabend! \nZeit für die ultimative Afterwork-Party im Nachtcafe! Los geht’s am Donnerstag\, den 12.09.2024! \nSchluss mit E-Mails\, Schluss mit Meetings\, Schluss mit Bürokratie! Es wird Zeit\, den Feierabend invollen Zügen zu genießen. Am 12.09. heißt es: Laptop zu\, Tanzschuhe an! \nAus Melitta wird Espresso Martini! Komm ins Nachtcafeund lass den Stress des Alltags hinter dir. \nFreu dich auf coole Beats\, erfrischendeDrinks und jede Menge gute Laune. Egal\, ob du dich auf der Tanzfläche austobst oder mit deinenKollegen bei einem Drink den Tag Revue passieren lässt–wir sorgen für die perfekte Stimmung. Also schnapp dir deine Kollegen\, Freunde oder Lieblingsmenschen und feier mit uns\, bis die Sterneüber der Stadt leuchten! \n  \nWas? Nachtcafe Afterwork–Disco\, RnB & Afterwork Classics \nWann? 12.09. \nUhrzeit? ab 19:00 Uhr \nWo? Nachtcafe\, Petersstr. 39-41\, 04109 Leipzig \nDer Feierabend war noch nie so schön – wir freuen uns auf dich! \nBe there\, or be square!
URL:https://netzwerken-leipzig.de/event/after-work-party-im-nachtcafe/
LOCATION:Nachtcafe\, Peterskirchhof 1\, Leipzig\, Sachsen\, 04109\, Deutschland
CATEGORIES:After Work
ATTACH;FMTTYPE=image/png:https://netzwerken-leipzig.de/wp-content/uploads/2024/08/Afterwork-Homepage.png
END:VEVENT
END:VCALENDAR